BEGIN:VCALENDAR
VERSION:2.0
PRODID:-//wp-events-plugin.com//6.4.8//EN
BEGIN:VEVENT
UID:13@msvaa.in
DTSTART:20250913T080000Z
DTEND:20250914T183000Z
DTSTAMP:20250912T080653Z
URL:https://msvaa.in/events/26th-maharashtra-state-veterans-aquatic-champi
 onship-2025/
SUMMARY:26th Maharashtra State Veterans Aquatic Championship 2025
DESCRIPTION:\n 	Any swimmer he or she who has completed his or her age of 2
 5 Years as on 31st Dec of the year of championship i.e this year 2025 can 
 participate in Masters Swimming Championship. Any person whose birthdate f
 alls on or after 02.01.2001 will not be eligible for Swimming Championship
  2025.\n 	It is notified as WARNING that\, only well prepared &amp\; medic
 ally fit competitors should enter the 26th Maharashtra State Masters Swimm
 ing Championship 2025.\n 	Every participant should know &amp\; understand 
 that how much risky is the efforts that he is going to perform\, and he or
  she is participating on his or her own responsibilities.\n 	Any person wi
 lling to participate in Maharashtra state Masters Swimming Championship 20
 25\, has to register his name online by filling up REGISTRATION FORM &amp\
 ; pay amount of Registration fee. He will have to choose at least one even
 t and maximum four events from listed events in PC EVENTS ENTRY FORM &amp\
 ; will have to pay event entry fee\, through online payment mode mentioned
 .\n 	Filling of two different forms of Registration &amp\; event entry com
 pletely and payment of both the fee simultaneously\, is compulsory for act
 ivation.\n 	Participant’s Pre competition REGISTRATION is necessary for 
 your entry in listed events and even for SPOT entries events such as FREE 
 STYLE RELAY\, MIDLEY RELAY. So\, get your name REGISTERED now and have a c
 hance to participate even in SPOT entries of above events also.\n 	Partici
 pants are requested to note that\, once he or she has submitted their Regi
 stration &amp\; Events form &amp\; paid respective fee for the same\, it w
 ill not be cancelled for any reasons whatsoever may be\, NO refund of amou
 nt of fee will be done by the organizers.\n 	Amount of fee paid is non-tra
 nsferable and will not be treated for fee of any other participant.\n 	Par
 ticipants should also note that\, once your name is registered with us aft
 er completing the process of form filling\, payment of Registration fee\, 
 submission &amp\; acceptance\, you will be registered participant of our a
 ssociation.\n 	Participant should also note that\, your Registration is va
 lid for this Masters Swimming Championship 2025 only. Registered participa
 nts will have to RENEW their registration for any next competition to be o
 rganized by MSVAA by payment of regular registration fee only. You will ha
 ve to keep noted only your Permanent Registration Number so generated.\n 	
 Events entries will not be accepted without payment of Registration &amp\;
  Entry Fees.\n 	All competitors should normally be resident of the distric
 t/State they are representing for at least six months prior to commencemen
 t of Championship.\n
LOCATION:Chhatrapati Sambhajinagar\, Siddharth Taran Talao\, Behind Central
  Bus Stand\,\, Chhatrapati Sambhajinagar\, Maharashtra\, India
X-APPLE-STRUCTURED-LOCATION;VALUE=URI;X-ADDRESS=Siddharth Taran Talao\, Beh
 ind Central Bus Stand\,\, Chhatrapati Sambhajinagar\, Maharashtra\, India;
 X-APPLE-RADIUS=100;X-TITLE=Chhatrapati Sambhajinagar:geo:0,0
END:VEVENT
END:VCALENDAR